BEGIN:VCALENDAR
VERSION:2.0
PRODID:-//wp-events-plugin.com//7.2.3.1//EN
TZID:Europe/Berlin
X-WR-TIMEZONE:Europe/Berlin
BEGIN:VEVENT
UID:1@lesszwei.com
DTSTART;TZID=Europe/Berlin:20251125T093000
DTEND;TZID=Europe/Berlin:20251125T103000
DTSTAMP:20251105T125506Z
URL:https://lesszwei.com/events/webinar-die-zukunft-der-stadtbeleuchtung/
SUMMARY:Webinar „Die Zukunft der Stadtbeleuchtung“
DESCRIPTION:Webinar: „Die Zukunft der Stadtbeleuchtung“\nIm Webinar zei
 gen Fachleute aus Verwaltung\, Planung und Praxis\, wie Städte und Gemein
 den ihre Beleuchtungsinfrastruktur fit für das IoT-Zeitalter machen könn
 en.\nAnhand konkreter Beispiele aus Deutschland und Österreich wird deutl
 ich\, welche Chancen die Digitalisierung der Straßenbeleuchtung bietet 
 – von Energieeinsparungen über intelligente Steuerungen bis hin zu neue
 n Finanzierungsmodellen wie „Light-as-a-Service“.\nDie Teilnehmenden e
 rfahren\, wie sich Kommunen auf die Abschaltung von Tonfrequenz und 2G vor
 bereiten können\, welche Technologien sich bewährt haben und welche Schr
 itte jetzt notwendig sind\, um Förderprogramme und Effizienzpotenziale op
 timal zu nutzen.\nFolgende Themen werden dabei unter anderem besprochen:\n
 \n\n 	Einfache Betriebsführung nach KRITIS-Standard\n 	Sofort messbare En
 ergieeinsparungen bis zu 45 %\n 	Digitale Steuerung über 4G/IoT statt Ton
 frequenz oder 2G\n 	Planbare Kosten dank Light-as-a-Service (Leasingmodell
 )\n
LOCATION:https://lesszwei.com/webex/webinar1
END:VEVENT
BEGIN:VTIMEZONE
TZID:Europe/Berlin
X-LIC-LOCATION:Europe/Berlin
BEGIN:STANDARD
DTSTART:20251026T020000
TZOFFSETFROM:+0200
TZOFFSETTO:+0100
TZNAME:CET
END:STANDARD
END:VTIMEZONE
END:VCALENDAR